BEGIN:VCALENDAR
VERSION:2.0
PRODID:-//Dementia Friendly Fort Worth - ECPv6.3.5//NONSGML v1.0//EN
CALSCALE:GREGORIAN
METHOD:PUBLISH
X-WR-CALNAME:Dementia Friendly Fort Worth
X-ORIGINAL-URL:https://dffw.org
X-WR-CALDESC:Events for Dementia Friendly Fort Worth
REFRESH-INTERVAL;VALUE=DURATION:PT1H
X-Robots-Tag:noindex
X-PUBLISHED-TTL:PT1H
BEGIN:VTIMEZONE
TZID:America/Chicago
BEGIN:DAYLIGHT
TZOFFSETFROM:-0600
TZOFFSETTO:-0500
TZNAME:CDT
DTSTART:20210314T080000
END:DAYLIGHT
BEGIN:STANDARD
TZOFFSETFROM:-0500
TZOFFSETTO:-0600
TZNAME:CST
DTSTART:20211107T070000
END:STANDARD
END:VTIMEZONE
BEGIN:VEVENT
DTSTART;TZID=America/Chicago:20211015T020000
DTEND;TZID=America/Chicago:20211015T030000
DTSTAMP:20260424T033519
CREATED:20211011T211150Z
LAST-MODIFIED:20211011T211314Z
UID:10004694-1634263200-1634266800@dffw.org
SUMMARY:Mystical Hope by Cynthia Bourgeault\, and the Practice of Centering Prayer - Open Group
DESCRIPTION:Mystical Hope by Cynthia Bourgeault\, and the Practice of Centering Prayer \nWe will read short passages from the book “Mystical Hope” by Rev. Cynthia Bourgeault\, friend and colleague of Fr. Richard Rohr. Each session\, we will take 30 minutes for deep-diving\, soulful discussions. After the first 30 minutes\, we will begin the shared\, silent practice of Centering Prayer. If you are not familiar with Centering Prayer\, this is your chance to learn and practice this contemplative experience of prayer that helps deepen hope and experience peace.\nHere is an intro to Centering Prayer: http://www.centeringprayer.com \nTuesdays and Fridays 7:00-8:00 am\nhttps://zoom.fumcfw.org/2
URL:https://dffw.org/event/mystical-hope-by-cynthia-bourgeault-and-the-practice-of-centering-prayer/2021-10-15/
END:VEVENT
BEGIN:VEVENT
DTSTART;TZID=America/Chicago:20211015T043000
DTEND;TZID=America/Chicago:20211015T053000
DTSTAMP:20260424T033519
CREATED:20211011T211429Z
LAST-MODIFIED:20211011T211429Z
UID:10004731-1634272200-1634275800@dffw.org
SUMMARY:Spirituality and the Twelve Steps: Breathing Underwater by Richard Rohr - Open Group
DESCRIPTION:Spirituality and the Twelve Steps: Breathing Underwater by Richard Rohr  \nWe live in a rushed culture that tempts us to accept quick-fix pseudo-solutions. At the same time\, the spiritual path helps us meet challenges authentically and discover deepening hope\, healing\, and purpose. As we explore Richard Rohr’s book “Breathing Underwater” and safely share soul stories\, this open\, weekly group will help us gain a deeper understanding of the spiritual wisdom of the 12 – step orientation to addictions of all sorts. \nFridays 9:30-10:30 am\nhttps://zoom.fumcfw.org/2
URL:https://dffw.org/event/spirituality-and-the-twelve-steps-breathing-underwater-by-richard-rohr-open-group/2021-10-15/
END:VEVENT
END:VCALENDAR